BEGIN:VCALENDAR
VERSION:2.0
PRODID:-//YourWebsite//EN
BEGIN:VEVENT
UID:69e88d3fc2914@yourwebsite.com
DTSTAMP:20260422T000000Z
DTSTART:20240321T200000Z
DTEND:20240321T220000Z
SUMMARY:COLOSSEUM
LOCATION:HsD
END:VEVENT
END:VCALENDAR
