BEGIN:VCALENDAR
VERSION:2.0
PRODID:-//YourWebsite//EN
BEGIN:VEVENT
UID:69e5e1deb794f@yourwebsite.com
DTSTAMP:20260420T000000Z
DTSTART:20260321T200000Z
DTEND:20260321T220000Z
SUMMARY:BOSSTIME
LOCATION:HsD
END:VEVENT
END:VCALENDAR
