BEGIN:VCALENDAR
VERSION:2.0
PRODID:-//YourWebsite//EN
BEGIN:VEVENT
UID:69e4cccc0f70e@yourwebsite.com
DTSTAMP:20260419T000000Z
DTSTART:20251213T200000Z
DTEND:20251213T220000Z
SUMMARY:FLOYD PEPPER &#038; THE SWING CLUB
LOCATION:Museumskeller
END:VEVENT
END:VCALENDAR
