BEGIN:VCALENDAR
VERSION:2.0
PRODID:-//YourWebsite//EN
BEGIN:VEVENT
UID:69e5e25bba5e9@yourwebsite.com
DTSTAMP:20260420T000000Z
DTSTART:20241221T200000Z
DTEND:20241221T220000Z
SUMMARY:FLIEHENDE STÜRME &#8211; Set 2
LOCATION:Museumskeller
END:VEVENT
END:VCALENDAR
