BEGIN:VCALENDAR
VERSION:2.0
PRODID:-//YourWebsite//EN
BEGIN:VEVENT
UID:69ecc3cd8a66d@yourwebsite.com
DTSTAMP:20260425T000000Z
DTSTART:20261003T200000Z
DTEND:20261003T220000Z
SUMMARY:Physical Graffiti (UK/NL/D)
LOCATION:HsD
END:VEVENT
END:VCALENDAR
