BEGIN:VCALENDAR
VERSION:2.0
PRODID:-//YourWebsite//EN
BEGIN:VEVENT
UID:69ecc4eb88ac2@yourwebsite.com
DTSTAMP:20260425T000000Z
DTSTART:20260603T200000Z
DTEND:20260603T220000Z
SUMMARY:ZOOKRAUGHT [Dance-Punk | Seattle / USA] +AIKA [Electro-Rave-Punk | Jena]
LOCATION:Museumskeller
END:VEVENT
END:VCALENDAR
