BEGIN:VCALENDAR
VERSION:2.0
PRODID:-//YourWebsite//EN
BEGIN:VEVENT
UID:69e8bf314c066@yourwebsite.com
DTSTAMP:20260422T000000Z
DTSTART:20261107T200000Z
DTEND:20261107T220000Z
SUMMARY:Lara Ermer
LOCATION:Museumskeller
END:VEVENT
END:VCALENDAR
